BEGIN:VCALENDAR
VERSION:2.0
PRODID:-//Stichting Pleegwijzer - ECPv6.15.17.1//NONSGML v1.0//EN
CALSCALE:GREGORIAN
METHOD:PUBLISH
X-WR-CALNAME:Stichting Pleegwijzer
X-ORIGINAL-URL:https://pleegwijzer.nl
X-WR-CALDESC:Evenementen voor Stichting Pleegwijzer
REFRESH-INTERVAL;VALUE=DURATION:PT1H
X-Robots-Tag:noindex
X-PUBLISHED-TTL:PT1H
BEGIN:VTIMEZONE
TZID:UTC
BEGIN:STANDARD
TZOFFSETFROM:+0000
TZOFFSETTO:+0000
TZNAME:UTC
DTSTART:20240101T000000
END:STANDARD
END:VTIMEZONE
BEGIN:VTIMEZONE
TZID:Europe/Amsterdam
BEGIN:DAYLIGHT
TZOFFSETFROM:+0100
TZOFFSETTO:+0200
TZNAME:CEST
DTSTART:20250330T010000
END:DAYLIGHT
BEGIN:STANDARD
TZOFFSETFROM:+0200
TZOFFSETTO:+0100
TZNAME:CET
DTSTART:20251026T010000
END:STANDARD
BEGIN:DAYLIGHT
TZOFFSETFROM:+0100
TZOFFSETTO:+0200
TZNAME:CEST
DTSTART:20260329T010000
END:DAYLIGHT
BEGIN:STANDARD
TZOFFSETFROM:+0200
TZOFFSETTO:+0100
TZNAME:CET
DTSTART:20261025T010000
END:STANDARD
BEGIN:DAYLIGHT
TZOFFSETFROM:+0100
TZOFFSETTO:+0200
TZNAME:CEST
DTSTART:20270328T010000
END:DAYLIGHT
BEGIN:STANDARD
TZOFFSETFROM:+0200
TZOFFSETTO:+0100
TZNAME:CET
DTSTART:20271031T010000
END:STANDARD
END:VTIMEZONE
BEGIN:VEVENT
DTSTART;TZID=UTC:20250507T191500
DTEND;TZID=UTC:20250507T213000
DTSTAMP:20260423T005939
CREATED:20250203T130821Z
LAST-MODIFIED:20250207T073739Z
UID:2517-1746645300-1746653400@pleegwijzer.nl
SUMMARY:Thema-avond Kinder-EHBO
DESCRIPTION:We nodigen je van harte uit voor een informatieve en interactieve Kinder-EHBO-avond! Tijdens deze avond leer je belangrijke EHBO-vaardigheden die van pas kunnen komen in alledaagse situaties in je pleeggezin.  \n\n\n\nEen ervaren EHBO instructeur die zelf jarenlang op de ambulance heeft gewerkt\, zalinformatie\, praktische tips en demonstraties geven. Daarnaast is er veel ruimte om zelf te oefenen; denk aan een verbandje\, maar ook reanimatie of werken met een AED komt aan bod. \n\n\n\nEen belangrijke avond als je nog nooit een EHBO cursus gedaan hebt\, maar ook als je je kennis wilt opfrissen\, specifieke tips en informatie over EHBO bij kinderen wilt krijgen óf nadenkt over het halen van een EHBO diploma. \n\n\n\nWe hebben een maximale groepsgrootte om ervoor te zorgen dat alle vragen aan bodkunnen komen en íedereen ruimte en tijd heeft om te oefenen. Dus als je mee wilt doen\, geef je zo snel mogelijk en in íeder geval voor 1 mei op. \n\n\n\nVOOR WIE: pleegouders in Groningen en DrentheDATUM: Woensdag 7 meiTIJD: 19.15 – 21:30WAAR: NGK Kerk Noorderlicht\, Scharmberg 37 in AssenKOSTEN: aan Pleegwijzer activiteiten zijn geen kosten verbondenOPGEVEN: geef je op via aanmelding@pleegwijzer.nl en geef daarbij ook door met hoeveel personen je komt en in welke gemeente je woont.
URL:https://pleegwijzer.nl/event/thema-avond-kinder-ehbo
LOCATION:NGK Kerk Noorderlicht\, Scharmberg 37\, Assen
CATEGORIES:Thema-avond
ATTACH;FMTTYPE=image/jpeg:https://pleegwijzer.nl/wp-content/uploads/2025/02/05-25-Uitnodiging-EHBO-bij-kinderen-en-babys-image.jpg
END:VEVENT
BEGIN:VEVENT
DTSTART;TZID=UTC:20250619T191500
DTEND;TZID=UTC:20250619T213000
DTSTAMP:20260423T005939
CREATED:20250514T104132Z
LAST-MODIFIED:20250514T104139Z
UID:3029-1750360500-1750368600@pleegwijzer.nl
SUMMARY:Worteltuinen – bezoekregelingen naar een ander niveau tillen
DESCRIPTION:Bezoekregelingen die niet thuis bij de ouder of pleegouder plaats vinden\, het is altijd zoeken naar een geschikte locatie. Een kantoor bij JBNoord\, de kinderbescherming of één van de pleegzorgaanbieders is voor niemand écht prettig. Binnenspeeltuinen al snel te druk\, groots en lawaaierig\, maar waar ga je dan naartoe? \n\n\n\nStichting Wortel is een landelijke stichting die door het hele land Worteltuinen heeft. Wat een worteltuin precies is\, wat je kunt en mag verwachten en hoe dat een bezoek met ouder/familie en pleegkind naar een ander niveau tilt komt Geerte van den Wildenberg\, beheerder van Worteltuin Alteveer (Groningen) en coördinator van de Worteltuinen in Noord Nederland ons vertellen. \n\n\n\nZe neemt ons mee in het ontstaan van Stichting Wortel\, de mogelijkheden in de worteltuinen\, hoe dingen werken\, wat je mag verwachten en natuurlijk horen we ook ervaringsverhalen. \n\n\n\nStichting Wortel is in Noord Nederland op zoek naar tuinen die zich lenen als worteltuin\, ook als je denk dat jouw tuin mogelijk een worteltuin zou kunnen worden\, ben je van harte welkom. \n\n\n\nHeb jij vooraf al een vraag\, stuur hem dan door via de mail en wij sturen hem door naar Geerte. \n\n\n\nVOOR WIE: pleegouders in Groningen en Drenthe DATUM: Donderavond 19 juni TIJD: 19.15 – 21:30 WAAR: Gorechthuis Haren Hortuslaan 1\, Haren KOSTEN: aan Pleegwijzer activiteiten zijn geen kosten verbonden OPGEVEN: Opgeven kan via aanmelding@pleegwijzer.nl en geef daarbij ook door met hoeveel personen je komt en in welke gemeente je woont.
URL:https://pleegwijzer.nl/event/worteltuinen-bezoekregelingen-naar-een-ander-niveau-tillen
LOCATION:Gorechthuis Haren\, Hortuslaan 1\, Haren
CATEGORIES:Thema-avond
ATTACH;FMTTYPE=image/jpeg:https://pleegwijzer.nl/wp-content/uploads/2025/05/06-19-Uitnodiging-Stichting-Wortel-Image.jpeg
END:VEVENT
BEGIN:VEVENT
DTSTART;TZID=UTC:20250701T191500
DTEND;TZID=UTC:20250701T213000
DTSTAMP:20260423T005939
CREATED:20250514T110316Z
LAST-MODIFIED:20250514T110327Z
UID:3033-1751397300-1751405400@pleegwijzer.nl
SUMMARY:De kracht van kleur en sfeer - laat je kind zich thuis voelen in het tweede thuis
DESCRIPTION:Coby schrijft: Na een ingrijpende gebeurtenis in een nieuw huis komen wonen is enorm heftig\, dat weet ik uit eigen ervaring. Voor een pleegkind\, met alles wat het meedraagt\, is een gevoel van veiligheid en geborgenheid van onschatbare waarde. Als stylist met een achtergrond als kindercoach weet ik hoeveel invloed kleur en sfeer hebben op de emoties van een kind. Samen met een expert in kleurenpsychologie heb ik een avond ontwikkeld speciaal voor pleegouders. Je ontdekt hoe je met kleur rust en vertrouwen kunt brengen\, en je gaat het zelf ervaren. Je krijgt concrete tools om een warme\, veilige plek te creëren waar jouw pleegkind zich thuis kan voelen. \n\n\n\n We willen jullie van harte uitnodiging voor deze thema avond over kleur en sfeer. Heb jij vooraf al een vraag\, stuur hem dan door via de mail en wij sturen hem door naar Coby. \n\n\n\nVOOR WIE: pleegouders in Groningen en Drenthe DATUM: Dinsdagavond 1 juli TIJD: 19.15 – 21:30 WAAR: NGK Kerk Noorderlicht\, Scharmberg 37 in AssenKOSTEN: aan Pleegwijzer activiteiten zijn geen kosten verbonden OPGEVEN: Opgeven kan via aanmelding@pleegwijzer.nl en geef daarbij ook door met hoeveel personen je komt en in welke gemeente je woont.
URL:https://pleegwijzer.nl/event/de-kracht-van-kleur-en-sfeer-laat-je-kind-zich-thuis-voelen-in-het-tweede-thuis
LOCATION:NGK Kerk Noorderlicht\, Scharmberg 37\, Assen
CATEGORIES:Thema-avond
ATTACH;FMTTYPE=image/jpeg:https://pleegwijzer.nl/wp-content/uploads/2025/05/thumbnail_07-01-DE-KRACHT-VAN-KLEUR-EN-SFEER-Laat-je-kind-zicht-thuis-voele-in-het-tweede-thuis-1.jpg
END:VEVENT
BEGIN:VEVENT
DTSTART;TZID=UTC:20250916T191500
DTEND;TZID=UTC:20250916T213000
DTSTAMP:20260423T005939
CREATED:20250810T130435Z
LAST-MODIFIED:20250810T130751Z
UID:3154-1758050100-1758058200@pleegwijzer.nl
SUMMARY:Online opvoeden? Social media in een pleeggezin
DESCRIPTION:Op deze avond staan we onder leiding van Martine Broere (pleegmoeder) en Nick van Hummer\, beide van het Nederlands Jeugdinstituut\, stil bij mediagebruik en mediaopvoeding. \n\n\n\nWat is normaal social mediagebruik en wanneer moet je je zorgen maken? Welke rol spelen media in de ontwikkeling van kinderen en jongeren? Hoe kan je als pleegouder begeleiden\, begrenzen en ondersteunen bij mediagebruik? We delen kennis vanuit onderzoek maar ook uit de praktijk en zullen ook veel uitwisselen\, dilemma’s bespreken en er is natuurlijk alle ruimte voor vragen. \n\n\n\nVOOR WIE: pleegouders in Groningen en Drenthe KOSTEN: aan Pleegwijzer activiteiten zijn geen kosten verbonden OPGEVEN: Opgeven kan via aanmelding@pleegwijzer.nl en geef daarbij ook door met hoeveel personen je komt en in welke gemeente je woont.
URL:https://pleegwijzer.nl/event/online-opvoeden-social-media-in-een-pleeggezin
LOCATION:Gorechthuis Haren\, Hortuslaan 1\, Haren
CATEGORIES:Thema-avond
ATTACH;FMTTYPE=image/jpeg:https://pleegwijzer.nl/wp-content/uploads/2025/08/online-opvoeden.jpg
END:VEVENT
BEGIN:VEVENT
DTSTART;TZID=UTC:20251008T193000
DTEND;TZID=UTC:20251008T220000
DTSTAMP:20260423T005939
CREATED:20250905T103236Z
LAST-MODIFIED:20250906T104536Z
UID:3223-1759951800-1759960800@pleegwijzer.nl
SUMMARY:Drentse première: Documentaire ‘Mama\, mag ik naar huis toe?’
DESCRIPTION:Hierbij ben je van harte uitgenodigd voor de Drentse première van de documentaire ‘Mama Mag Ik Naar Huis Toe?’  \n\n\n\nDatum: woensdag 8 oktober 2025\, om 19.30 – 22.00 uur (inloop vanaf 19:00 uur)Locatie: Live Assen\, Zuidersingel 81Tickets gratis reserveren: https://ethicsfilmservice.com/agenda/48e7f9Vouchercode: mama-drentheBekijk alvast de trailer van deze indrukwekkende documentaire: FilmMomentWe hopen je te ontmoeten op deze bijzondere avond. \n\n\n\nWe willen je vragen om de ouder(s) van je pleegkind(eren) mee te vragen naar de filmavond als de relatie en verstandhouding dit toelaat. Pleegkinderen van 16+ zijn ook van harte welkom.  \n\n\n\nGoed te weten: Pleegzorg Groningen organiseert op vrijdag 7 november de vertoning van deze film in het Forum in Groningen. De uitnodiging hiervoor volgt nog.
URL:https://pleegwijzer.nl/event/documentaire-mama-mag-ik-naar-huis-toe
LOCATION:Live Assen\, Zuidersingel 81\, Assen
CATEGORIES:Thema-avond
ATTACH;FMTTYPE=image/png:https://pleegwijzer.nl/wp-content/uploads/2025/09/thumbnail_Uitnodiging-FILM-Pleegzorg-Drenthe.png
END:VEVENT
BEGIN:VEVENT
DTSTART;TZID=UTC:20251016T191500
DTEND;TZID=UTC:20251016T213000
DTSTAMP:20260423T005939
CREATED:20250910T110658Z
LAST-MODIFIED:20250910T110700Z
UID:3238-1760642100-1760650200@pleegwijzer.nl
SUMMARY:Hoe jongeren geronseld worden door criminelen
DESCRIPTION:Om te voorkomen dat jongeren slachtoffer worden van criminelen\, moeten we eerst weten wat het is en hoe we signalen herkennen. \n\n\n\nSteeds meer – soms nog kind – zitten al tot hun nek in de drugscriminaliteit. Ze worden geronseld door criminelen om (gevaarlijke) klusjes te doen. Criminelen gaan hierbij berekenend te werk. Ze sluiten bijvoorbeeld eerst vriendschap en vragen vervolgens om een pakketje weg te brengen of een pinpas uit te lenen. Soms is de dwang zo subtiel dat het slachtoffer niet eens weet dat hij/zij wordt uitgebuit. Gemiddeld zitten er in elke klas wel een paar jongeren die benaderd zijn voor duistere zaken. \n\n\n\n Er rust een taboe op criminaliteit onder jongeren. Zeker als het je overkomt is er vaak sprake van schaamte of gevoel van falen door de jongere zelf\, hun (pleeg)ouders of de school. Dit taboe willen we doorbreken door het erover te hebben. Pas als we weten waarover het gaat\, kunnen we het bespreken en samen aanpakken. Dat doen we door jongeren en het netwerk om hen heen\, zoals (pleeg)ouders\, verzorgers en docenten bewust te maken van ondermijnende criminaliteit en hen hiervoor meer weerbaar te maken. \n\n\n\nWat komt er aan de orde? Wat is ondermijnende criminaliteit? Hoe gaan criminelen te werk? Wat kun je doen als je ondermijnende criminaliteit herkent? \n\n\n\nDoor wie? RIEC-Noord Nederland geeft deze voorlichting over Jonge Criminele Aanwas. \n\n\n\nVOOR WIE: pleegouders in Groningen en Drenthe KOSTEN: aan Pleegwijzer activiteiten zijn geen kosten verbonden OPGEVEN: geef je op via aanmelding@pleegwijzer.nl en geef daarbij ook door met hoeveel personen je komt en in welke gemeente je woont.
URL:https://pleegwijzer.nl/event/hoe-jongeren-geronseld-worden-door-criminelen
LOCATION:NGK Kerk Noorderlicht\, Scharmberg 37\, Assen
CATEGORIES:Thema-avond
ATTACH;FMTTYPE=image/jpeg:https://pleegwijzer.nl/wp-content/uploads/2025/09/10-16-Hoe-jongeren-geronseld-worden-door-criminelen-image.jpg
END:VEVENT
BEGIN:VEVENT
DTSTART;TZID=UTC:20251104T191500
DTEND;TZID=UTC:20251104T213000
DTSTAMP:20260423T005939
CREATED:20250910T110544Z
LAST-MODIFIED:20251028T125747Z
UID:3242-1762283700-1762291800@pleegwijzer.nl
SUMMARY:Feestdagen in een pleeggezin – Stress of genieten?
DESCRIPTION:Let op! Eerder stond in de uitnodiging dat deze avond in Assen wordt gehouden\, dit moest zijn het Gorechthuis\, Hortuslaan 1 in Haren. \n\n\n\nTraumabegeleider Kitty de Bruin legt ons uit wát het nou is dat feestdagen juist in pleeggezinnen soms extra ingewikkeld maakt. Met elkaar gaan we op zoek naar tips en ideeën om dit seizoen vol vertrouwen en met hernieuwde zin in te gaan. \n\n\n\nOnderwerpen die aan bod komen zijn: \n\n\n\n· Hoe ervaren pleegkinderen Sinterklaas/feestdagen anders dan niet pleegkinderen? \n\n\n\n· Wat kun je doen als de Sint/kerstspanning té groot wordt voor je pleegkind? \n\n\n\n· Hoe kun je je als pleegouder voorbereiden op feestdagen? \n\n\n\n· Hoe bereid je je pleegkind voor op feestdagen? \n\n\n\n· Hoe vier je feestdagen met ouders? \n\n\n\n· Wat doe je als pleegkinderen veel cadeaus krijgen van ouders? \n\n\n\n· En nog veel meer praktische tips! \n\n\n\nWe willen jullie van harte uitnodiging voor deze bijzondere avond. Heb jij vooraf al een vraag\, stuur hem dan door via de mail en wij sturen hem door naar Kitty. \n\n\n\nVOOR WIE: pleegouders in Groningen en Drenthe KOSTEN: aan Pleegwijzer activiteiten zijn geen kosten verbonden OPGEVEN: Opgeven kan via aanmelding@pleegwijzer.nl en geef daarbij ook door met hoeveel personen je komt en in welke gemeente je woont.
URL:https://pleegwijzer.nl/event/feestdagen-in-een-pleeggezin-stress-of-genieten
LOCATION:Gorechthuis Haren\, Hortuslaan 1\, Haren
CATEGORIES:Thema-avond
ATTACH;FMTTYPE=image/jpeg:https://pleegwijzer.nl/wp-content/uploads/2025/09/11-4-Feestdagen-in-een-pleeggezin-stress-of-genieten-image.jpg
END:VEVENT
BEGIN:VEVENT
DTSTART;TZID=UTC:20251107T200000
DTEND;TZID=UTC:20251107T220000
DTSTAMP:20260423T005939
CREATED:20251009T112514Z
LAST-MODIFIED:20251009T120414Z
UID:3290-1762545600-1762552800@pleegwijzer.nl
SUMMARY:Documentaire ‘Mama\, mag ik naar huis toe?’ op Let's Gro
DESCRIPTION:De documentaire Mama\, mag ik naar huis toe? werpt een indringend licht op wat het betekent als een kind uit huis wordt geplaatst. Wat betekent dat voor een ouder? En hoe ziet gedeeld ouderschap eruit in de praktijk? \n\n\n\nVanuit het perspectief van ouders én in samenwerking met pleegouders\, laat deze film zien hoe complex\, pijnlijk\, maar ook hoopvol deze realiteit kan zijn. Een verhaal dat raakt\, schuurt en aanzet tot nadenken. Daarom is het een film die gezien moet worden door iedereen die betrokken is bij pleegzorg. \n\n\n\nBen jij erbij? \n\n\n\nNamens Pleegzorg Groningen in samenwerking met Stichting Pleegwijzer\, nodigen wij van harte uit aanwezig te zijn bij deze bijzondere vertoning. \n\n\n\nDeze avond is een onderdeel van het Groningse festival Let’s Gro: Let’s Gro 2025 | Het festival over de toekomst van Groningen
URL:https://pleegwijzer.nl/event/documentaire-mama-mag-ik-naar-huis-toe-op-lets-gro
LOCATION:Forum\, Nieuwe Markt 1\, Groningen
CATEGORIES:Thema-avond
ATTACH;FMTTYPE=image/jpeg:https://pleegwijzer.nl/wp-content/uploads/2025/10/Save-the-date-25__A5_film_mama-mag-ik-naar-huis-CW_juli.jpg
END:VEVENT
BEGIN:VEVENT
DTSTART;TZID=UTC:20260326T193000
DTEND;TZID=UTC:20260326T213000
DTSTAMP:20260423T005939
CREATED:20260305T073520Z
LAST-MODIFIED:20260306T055351Z
UID:3586-1774553400-1774560600@pleegwijzer.nl
SUMMARY:Thema-avond PleegZelfzorg
DESCRIPTION:Hoe zorg je voor jezelf in de zorg voor de ander? \n\n\n\nIn de chaos van pleegzorg en alles wat er als pleegouder op je afkomt aan zorg kun je zomaar aan jezelf voorbijgaan. Er is altijd wel iets wat\, of iemand die je aandacht op eist.. \n\n\n\nJe wéét dat goed voor jezelf te zorgen belangrijk is\, maar de realiteit is vaak weerbarstig. Hoe doe je dat concreet: zorgen voor jezelf in de zorg voor de ander(en)? Hoe blijft er ruimte voor jou\, zodat je jezelf niet leeggeeft\, opwerkt? Hoe zorg je voor een gezond evenwicht? \n\n\n\nOp donderdag 26 maart duiken we op een praktische en interactieve manier dit thema in\, met als doel ‘opgefrist’ en met heldere inzichten en handvatten naar huis te gaan. \n\n\n\nNoortje Wierenga zal deze avond voor ons verzorgen\, pleegmoeder van 4 opgroeiende kinderen en kleinzoon\, therapeut\, trainer en ontwikkelaar van het boek en spel ‘een Boel Gevoel’. \n\n\n\nHeb je vooraf al vragen\, stuur ze dan gerust door zodat we er sowieso tijd voor kunnen maken. \n\n\n\nVoor wie: Pleegouders in Groningen en Drenthe Kosten: Aan Pleegwijzer activiteiten zijn geen kosten verbonden Opgeven: Opgeven kan via aanmelding@pleegwijzer.nl en geef daarbij ook door met hoeveel mensen je komt en in welke gemeente je woont.
URL:https://pleegwijzer.nl/event/thema-avond-pleegzelfzorg
LOCATION:Gorechthuis Haren\, Hortuslaan 1\, Haren
CATEGORIES:Thema-avond
ATTACH;FMTTYPE=image/jpeg:https://pleegwijzer.nl/wp-content/uploads/2026/03/03-26-26-TA-Pleegzelfzorg-image.jpg
END:VEVENT
BEGIN:VEVENT
DTSTART;TZID=Europe/Amsterdam:20260415T193000
DTEND;TZID=Europe/Amsterdam:20260415T213000
DTSTAMP:20260423T005939
CREATED:20260310T150914Z
LAST-MODIFIED:20260310T150917Z
UID:3632-1776281400-1776288600@pleegwijzer.nl
SUMMARY:Zorgen voor je kleinkind\, nichtje of buurjongen…
DESCRIPTION:Zorgen voor een kind uit je eigen netwerk is pleegzorg\, maar ook zoveel meer. Naast de wereld van het kind\, je eigen agenda en de dagelijkse dingen staat bij netwerkpleegzorg je hele netwerk op z’n kop. Banden lopen plots door elkaar\, relaties veranderen of komen zelfs op scherp te staan en bij alles wat je plant of afspreekt moet je twee keer extra nadenken… \n\n\n\nAls de biologische moeder van je pleegkind je eigen dochter is\, hoe bouw je dan een bezoekschema op? Als je de juf bent van je pleegkind\, hoe leg je dit uit aan de rest van de klas? Lia Vogel\, pleeggrootouder en auteur van het boek “Een mantel vol liefde – en dan ben je pleegouder” neemt ons mee in haar reis als pleegoma. We duiken samen in de moeilijke momenten\, de dilemma’s: hoe wordt je begeleid\, wat heb je als netwerkpleegouder nodig van juist die begeleiding? Er is ruimte voor jouw verhaal en jouw vragen. \n\n\n\nHeb je vooraf al vragen\, stuur ze dan gerust door zodat we er sowieso tijd voor kunnen maken. \n\n\n\nVoor wie: Pleegouders in Groningen en DrentheKosten: Aan Pleegwijzer activiteiten zijn geen kosten verbonden Opgeven: Opgeven kan via aanmelding@pleegwijzer.nl en daarbij ook door met hoeveel mensen je komt en in welke gemeente je woont.
URL:https://pleegwijzer.nl/event/zorgen-voor-je-kleinkind-nichtje-of-buurjongen
LOCATION:NGK Kerk Noorderlicht\, Scharmberg 37\, Assen
CATEGORIES:Thema-avond
ATTACH;FMTTYPE=image/jpeg:https://pleegwijzer.nl/wp-content/uploads/2026/03/04-15-26-TA-Netwerkpleegzorg-een-andere-tak-van-sport.-image.jpg
END:VEVENT
BEGIN:VEVENT
DTSTART;TZID=Europe/Amsterdam:20260519T191500
DTEND;TZID=Europe/Amsterdam:20260519T213000
DTSTAMP:20260423T005939
CREATED:20260310T152534Z
LAST-MODIFIED:20260310T152537Z
UID:3635-1779218100-1779226200@pleegwijzer.nl
SUMMARY:De hemd van het lijf – een jeugdbeschermer onder (vragen)vuur
DESCRIPTION:Miranda is een bevlogen jeugdbeschermer uit een andere regio dan de onze. Op Instagram deelt ze nu en dan wat van de verhalen uit haar dagelijkse werkleven. Het werkleven van een voogd. De hartverscheurende verhalen\, maar vooral ook mooie\, hoopvolle verhalen en verhalen van een jeugdbeschermer met hart voor de zaak. \n\n\n\nMiranda komt haar kijk op jeugdzorg met ons delen: Wie is zij als voogd en wat mogen wij als pleegouders eigenlijk van een voogd verwachten? Wat hoort in haar takenpakket\, maar wat ook helemaal niet? Hoe heeft ze dingen geleerd in haar opleiding en hoe gaat het eraan toe in de dagelijkse realiteit? We mogen Miranda álles vragen\, de hémd van het lijf… Meld je snel aan en heb je al een dringende vraag liggen\, stuur die dan via de mail zodat we jouw vraag sowieso gaan behandelen. \n\n\n\nVoor wie: Pleegouders in Groningen en Drenthe Kosten: Aan Pleegwijzer activiteiten zijn geen kosten verbonden Opgeven: Opgeven kan via aanmelding@pleegwijzer.nl en geef daarbij ook door met hoeveel mensen je komt en in welke gemeente je woont.
URL:https://pleegwijzer.nl/event/de-hemd-van-het-lijf-een-jeugdbeschermer-onder-vragenvuur
LOCATION:Gorechthuis Haren\, Hortuslaan 1\, Haren
CATEGORIES:Thema-avond
ATTACH;FMTTYPE=image/png:https://pleegwijzer.nl/wp-content/uploads/2026/03/05-19-26-De-hemd-van-het-lijf-–-een-jeugdbeschermer-onder-vuur-image.png
END:VEVENT
BEGIN:VEVENT
DTSTART;TZID=Europe/Amsterdam:20260602T193000
DTEND;TZID=Europe/Amsterdam:20260602T213000
DTSTAMP:20260423T005939
CREATED:20260407T071940Z
LAST-MODIFIED:20260407T072931Z
UID:3663-1780428600-1780435800@pleegwijzer.nl
SUMMARY:Mariska Kramer – Rechten en plichten voor pleegouders 
DESCRIPTION:Mariska zet zich in voor de belangen van het (pleeg)kind en de (rechts)positie van pleegouders.  In haar advies-en procespraktijk staat zij als advocaat regelmatig pleegouders bij en adviseert zij jeugdzorgaanbieders en gecertificeerde instellingen. Mariska geeft als ervaren trainer/cursusleider regelmatig trainingen/cursussen aan zowel pleegouders als aan (jeugd)professionals. Mariska maakt door de praktijkvoorbeelden en het gebruik van gewone mensentaal juridische kost voor iedereen toegankelijk. Zij schreef speciaal voor pleegouders het boek ‘Paraplu voor pleegouders’\, vol juridische en praktische tips over pleegzorg\, geschreven in gewone mensentaal en vol voorbeelden uit de dagelijkse praktijk.  \n\n\n\nMariska is deskundig op alle juridische onderwerpen met betrekking tot pleegzorg en jeugdzorg zoals blokkaderecht\, privacyvraagstukken\, omgangsrecht\, positie van pleegouders in een zitting etc. Zij geeft ook praktische tips voor de praktijk\, zoals: wel of niet naar een zitting gaan? Op welke stukken heb je als pleegouder recht? Wat als je het niet eens bent met de jeugdbeschermer? Etc.  \n\n\n\nHeb je zelf juridische vragen die je graag beantwoord zou willen zien? Stuur ze alvast naar info@pleegwijzer.nl en wij sturen ze door naar Mariska.   \n\n\n\nGeef je snel op en neem alle pleegouders in je omgeving mee. Het belooft een enorm informatieve avond te worden.   \n\n\n\nVOOR WIE: pleegouders in Groningen en Drenthe KOSTEN: aan Pleegwijzer activiteiten zijn geen kosten verbonden OPGEVEN: geef je op via aanmelding@pleegwijzer.nl   \n\n\n\nDeze thema-avond is een samenwerking van Stichting Pleegwijzer  met Elker\, Leger des Heils\, Yorneo en WSGV 
URL:https://pleegwijzer.nl/event/mariska-kramer-rechten-en-plichten-voor-pleegouders
LOCATION:Leger des Heils\, van Swietenlaan 23\, Groningen
CATEGORIES:Thema-avond
ATTACH;FMTTYPE=image/jpeg:https://pleegwijzer.nl/wp-content/uploads/2026/04/06-02-26-TA-Mariska-Kramer-–-Rechten-en-plichten-voor-pleegouders-image-scaled.jpg
END:VEVENT
END:VCALENDAR