BEGIN:VCALENDAR
VERSION:2.0
PRODID:-//Stichting Pleegwijzer - ECPv6.15.17.1//NONSGML v1.0//EN
CALSCALE:GREGORIAN
METHOD:PUBLISH
X-ORIGINAL-URL:https://pleegwijzer.nl
X-WR-CALDESC:Evenementen voor Stichting Pleegwijzer
REFRESH-INTERVAL;VALUE=DURATION:PT1H
X-Robots-Tag:noindex
X-PUBLISHED-TTL:PT1H
BEGIN:VTIMEZONE
TZID:UTC
BEGIN:STANDARD
TZOFFSETFROM:+0000
TZOFFSETTO:+0000
TZNAME:UTC
DTSTART:20240101T000000
END:STANDARD
END:VTIMEZONE
BEGIN:VEVENT
DTSTART;TZID=UTC:20251008T193000
DTEND;TZID=UTC:20251008T220000
DTSTAMP:20260422T143921
CREATED:20250905T103236Z
LAST-MODIFIED:20250906T104536Z
UID:3223-1759951800-1759960800@pleegwijzer.nl
SUMMARY:Drentse première: Documentaire ‘Mama\, mag ik naar huis toe?’
DESCRIPTION:Hierbij ben je van harte uitgenodigd voor de Drentse première van de documentaire ‘Mama Mag Ik Naar Huis Toe?’  \n\n\n\nDatum: woensdag 8 oktober 2025\, om 19.30 – 22.00 uur (inloop vanaf 19:00 uur)Locatie: Live Assen\, Zuidersingel 81Tickets gratis reserveren: https://ethicsfilmservice.com/agenda/48e7f9Vouchercode: mama-drentheBekijk alvast de trailer van deze indrukwekkende documentaire: FilmMomentWe hopen je te ontmoeten op deze bijzondere avond. \n\n\n\nWe willen je vragen om de ouder(s) van je pleegkind(eren) mee te vragen naar de filmavond als de relatie en verstandhouding dit toelaat. Pleegkinderen van 16+ zijn ook van harte welkom.  \n\n\n\nGoed te weten: Pleegzorg Groningen organiseert op vrijdag 7 november de vertoning van deze film in het Forum in Groningen. De uitnodiging hiervoor volgt nog.
URL:https://pleegwijzer.nl/event/documentaire-mama-mag-ik-naar-huis-toe
LOCATION:Live Assen\, Zuidersingel 81\, Assen
CATEGORIES:Thema-avond
ATTACH;FMTTYPE=image/png:https://pleegwijzer.nl/wp-content/uploads/2025/09/thumbnail_Uitnodiging-FILM-Pleegzorg-Drenthe.png
END:VEVENT
BEGIN:VEVENT
DTSTART;TZID=UTC:20251016T191500
DTEND;TZID=UTC:20251016T213000
DTSTAMP:20260422T143921
CREATED:20250910T110658Z
LAST-MODIFIED:20250910T110700Z
UID:3238-1760642100-1760650200@pleegwijzer.nl
SUMMARY:Hoe jongeren geronseld worden door criminelen
DESCRIPTION:Om te voorkomen dat jongeren slachtoffer worden van criminelen\, moeten we eerst weten wat het is en hoe we signalen herkennen. \n\n\n\nSteeds meer – soms nog kind – zitten al tot hun nek in de drugscriminaliteit. Ze worden geronseld door criminelen om (gevaarlijke) klusjes te doen. Criminelen gaan hierbij berekenend te werk. Ze sluiten bijvoorbeeld eerst vriendschap en vragen vervolgens om een pakketje weg te brengen of een pinpas uit te lenen. Soms is de dwang zo subtiel dat het slachtoffer niet eens weet dat hij/zij wordt uitgebuit. Gemiddeld zitten er in elke klas wel een paar jongeren die benaderd zijn voor duistere zaken. \n\n\n\n Er rust een taboe op criminaliteit onder jongeren. Zeker als het je overkomt is er vaak sprake van schaamte of gevoel van falen door de jongere zelf\, hun (pleeg)ouders of de school. Dit taboe willen we doorbreken door het erover te hebben. Pas als we weten waarover het gaat\, kunnen we het bespreken en samen aanpakken. Dat doen we door jongeren en het netwerk om hen heen\, zoals (pleeg)ouders\, verzorgers en docenten bewust te maken van ondermijnende criminaliteit en hen hiervoor meer weerbaar te maken. \n\n\n\nWat komt er aan de orde? Wat is ondermijnende criminaliteit? Hoe gaan criminelen te werk? Wat kun je doen als je ondermijnende criminaliteit herkent? \n\n\n\nDoor wie? RIEC-Noord Nederland geeft deze voorlichting over Jonge Criminele Aanwas. \n\n\n\nVOOR WIE: pleegouders in Groningen en Drenthe KOSTEN: aan Pleegwijzer activiteiten zijn geen kosten verbonden OPGEVEN: geef je op via aanmelding@pleegwijzer.nl en geef daarbij ook door met hoeveel personen je komt en in welke gemeente je woont.
URL:https://pleegwijzer.nl/event/hoe-jongeren-geronseld-worden-door-criminelen
LOCATION:NGK Kerk Noorderlicht\, Scharmberg 37\, Assen
CATEGORIES:Thema-avond
ATTACH;FMTTYPE=image/jpeg:https://pleegwijzer.nl/wp-content/uploads/2025/09/10-16-Hoe-jongeren-geronseld-worden-door-criminelen-image.jpg
END:VEVENT
END:VCALENDAR