BEGIN:VCALENDAR
VERSION:2.0
PRODID:-//Stichting Pleegwijzer - ECPv6.15.17.1//NONSGML v1.0//EN
CALSCALE:GREGORIAN
METHOD:PUBLISH
X-ORIGINAL-URL:https://pleegwijzer.nl
X-WR-CALDESC:Evenementen voor Stichting Pleegwijzer
REFRESH-INTERVAL;VALUE=DURATION:PT1H
X-Robots-Tag:noindex
X-PUBLISHED-TTL:PT1H
BEGIN:VTIMEZONE
TZID:UTC
BEGIN:STANDARD
TZOFFSETFROM:+0000
TZOFFSETTO:+0000
TZNAME:UTC
DTSTART:20240101T000000
END:STANDARD
END:VTIMEZONE
BEGIN:VEVENT
DTSTART;TZID=UTC:20250225T191500
DTEND;TZID=UTC:20250225T213000
DTSTAMP:20260423T054612
CREATED:20241206T133256Z
LAST-MODIFIED:20250401T091759Z
UID:2468-1740510900-1740519000@pleegwijzer.nl
SUMMARY:Thema-avond De invloed van pleegzorg op eigen kinderen in een pleeggezin
DESCRIPTION:Als pleegouders kies je (in de meeste gevallen) voor pleegzorg. Je doet de startcursus\, leest boeken\, zoekt informatie online en misschien volg je ook op social media medepleegouders\, experts en ervaringsdeskundigen. Je wordt begeleidt door de pleegzorgbegeleider\, heb gesprekken met voogden en hulpverlening. \n\n\n\nMaar hoe zit dat met de eigen kinderen in pleeggezinnen? Vaak worden ze in het voortraject nog meegenomen\, maar hoe gaat het dan verder? Bij wie kunnen jouw eigen kinderen hun pleegzorgei kwijt? Wat is de invloed van pleegzorg op de eigen kinderen in jouw gezin? Na een interessante inleiding gaan we in kleinere groepen met prikkelende vragen in gesprek en is er volop gelegenheid vragen te stellen. \n\n\n\n\nBep van Sloten heeft zelf jarenlange (25+) ervaring als pleegouder en heeft zich gespecialiseerd in eigen kinderen in pleeggezinnen. Zij komt ons vertellen wat onderzoeken zeggen\, welke onderzoeken er gedaan zijn en put uit veel eigen ervaring. De inloop is vanaf 19:15\, om 19:30 beginnen we. Heb jij vooraf al vragen die je sowieso graag wilt stellen/ behandeld zou willen zien? Mail ze dan\, samen met jouw aanmelding. \n\n\n\n\nAanmelden kan tot en met 20 februari. \n\n\n\nVOOR WIE: pleegouders in Groningen en DrentheDATUM: Dinsdag 25 februari TIJD: 19.15 – 21:30WAAR: NGK Kerk Noorderlicht\, Scharmberg 37 in AssenKOSTEN: aan Pleegwijzer activiteiten zijn geen kosten verbondenOPGEVEN: geef je op via aanmelding@pleegwijzer.nl en geef daarbij ook door met hoeveel personen je komt en in welke gemeente je woont.
URL:https://pleegwijzer.nl/event/de-invloed-van-pleegzorg-op-eigen-kinderen-in-een-pleeggezin
LOCATION:NGK Kerk Noorderlicht\, Scharmberg 37\, Assen
CATEGORIES:Thema-avond
ATTACH;FMTTYPE=image/png:https://pleegwijzer.nl/wp-content/uploads/2024/12/family2.png
END:VEVENT
END:VCALENDAR