BEGIN:VCALENDAR
VERSION:2.0
PRODID:-//Stichting Pleegwijzer - ECPv6.15.17.1//NONSGML v1.0//EN
CALSCALE:GREGORIAN
METHOD:PUBLISH
X-ORIGINAL-URL:https://pleegwijzer.nl
X-WR-CALDESC:Evenementen voor Stichting Pleegwijzer
REFRESH-INTERVAL;VALUE=DURATION:PT1H
X-Robots-Tag:noindex
X-PUBLISHED-TTL:PT1H
BEGIN:VTIMEZONE
TZID:UTC
BEGIN:STANDARD
TZOFFSETFROM:+0000
TZOFFSETTO:+0000
TZNAME:UTC
DTSTART:20240101T000000
END:STANDARD
END:VTIMEZONE
BEGIN:VEVENT
DTSTART;TZID=UTC:20250123T191500
DTEND;TZID=UTC:20250123T213000
DTSTAMP:20260423T081028
CREATED:20241120T134247Z
LAST-MODIFIED:20250401T091814Z
UID:2433-1737659700-1737667800@pleegwijzer.nl
SUMMARY:Thema-avond 18-/18+
DESCRIPTION:Wat als je pleegkind bijna 18 jaar wordt?! Wat zijn de zaken die geregeld moeten worden? Wie kan erbij helpen? Waar kun je je ´melden´ en wanneer moet je beginnen?  \n\n\n\nDeze avond wordt verzorgd door Nienke de Vries (Ontregelaar Pleegzorg regio Groningen) en Rainier Ypma (Coördinator 18-/18+ Gemeente Groningen). \n\n\n\nNienke en Rainier leggen uit wat er bij de leeftijd van 16\,5 jaar gaat gebeuren\, wat een toekomstplan is en hoe je de ´Big 5´ kunt bespreken met een jeugdige. Ook komt aan bod hoe de overgang naar 18 jaar vanuit de Jeugdwet\, Wet Maatschappelijke Ondersteuning en Wet Langdurige Zorg wordt bekeken. \n\n\n\nVOOR WIE: pleegouders in Groningen en DrentheDATUM & TIJD: donderdag 23 januari\, inloop 19.15 start 19.30 tot 21.30WAAR: Gorechthuis\, Hortuslaan 1 HarenKOSTEN: aan Pleegwijzer activiteiten zijn geen kosten verbondenOPGEVEN: geef je op via aanmelding@pleegwijzer.nl en geef daarbij ook door met hoeveel personen je komt en  in welke gemeente je woont. 
URL:https://pleegwijzer.nl/event/thema-avond-18-18
LOCATION:Gorechthuis Haren\, Hortuslaan 1\, Haren
CATEGORIES:Thema-avond
ATTACH;FMTTYPE=image/jpeg:https://pleegwijzer.nl/wp-content/uploads/2024/11/37991_fullimage_ma35928_930-min-kopie.jpg
END:VEVENT
END:VCALENDAR